BEGIN:VCALENDAR
VERSION:2.0
PRODID:-//Salibandy Club Classic - ECPv4.9.4//NONSGML v1.0//EN
CALSCALE:GREGORIAN
METHOD:PUBLISH
X-WR-CALNAME:Salibandy Club Classic
X-ORIGINAL-URL:https://uusiclassic.i2works.fi
X-WR-CALDESC:Tapahtumat Salibandy Club Classic
BEGIN:VTIMEZONE
TZID:"Europe/Helsinki"
BEGIN:DAYLIGHT
TZOFFSETFROM:+0200
TZOFFSETTO:+0300
TZNAME:EEST
DTSTART:20210328T010000
END:DAYLIGHT
BEGIN:STANDARD
TZOFFSETFROM:+0300
TZOFFSETTO:+0200
TZNAME:EET
DTSTART:20211031T010000
END:STANDARD
END:VTIMEZONE
BEGIN:VEVENT
DTSTART;TZID="Europe/Helsinki":20210327T140000
DTEND;TZID="Europe/Helsinki":20210327T163000
DTSTAMP:20260422T195329
CREATED:20210309T110002Z
LAST-MODIFIED:20210322T090352Z
UID:7046-1616853600-1616862600@uusiclassic.i2works.fi
SUMMARY:4. puolivälierä Classic - FBC Loisto
DESCRIPTION:La 27.3. klo 14.00 Classic – FBC Loisto\, Tampere Areena\n\nPelit pelataan ilman yleisöä\, mutta on katsottavissa Ruutu+:sta.\n
URL:https://uusiclassic.i2works.fi/ottelu/4-puolivaliera-classic-fbc-loisto-tarvittaessa/
LOCATION:Tampere Areena\, Jäähallinraitti 3\, Tampere\, 33540\, Suomi
CATEGORIES:Classic family,Naisten liigajoukkue
END:VEVENT
END:VCALENDAR