BEGIN:VCALENDAR
VERSION:2.0
PRODID:-//Salibandy Club Classic - ECPv4.9.4//NONSGML v1.0//EN
CALSCALE:GREGORIAN
METHOD:PUBLISH
X-WR-CALNAME:Salibandy Club Classic
X-ORIGINAL-URL:https://uusiclassic.i2works.fi
X-WR-CALDESC:Tapahtumat Salibandy Club Classic
BEGIN:VTIMEZONE
TZID:"Europe/Helsinki"
BEGIN:DAYLIGHT
TZOFFSETFROM:+0200
TZOFFSETTO:+0300
TZNAME:EEST
DTSTART:20210328T010000
END:DAYLIGHT
BEGIN:STANDARD
TZOFFSETFROM:+0300
TZOFFSETTO:+0200
TZNAME:EET
DTSTART:20211031T010000
END:STANDARD
END:VTIMEZONE
BEGIN:VEVENT
DTSTART;TZID="Europe/Helsinki":20210226T183000
DTEND;TZID="Europe/Helsinki":20210226T210000
DTSTAMP:20260423T071009
CREATED:20200921T115944Z
LAST-MODIFIED:20200921T115944Z
UID:6036-1614364200-1614373200@uusiclassic.i2works.fi
SUMMARY:Classic A-pojat - Nokian KrP
DESCRIPTION:Classic A-pojat – Nokian KrP Pe 26.2.2021 klo 18.30\, Spiral-halli \n
URL:https://uusiclassic.i2works.fi/ottelu/classic-a-pojat-nokian-krp/
LOCATION:Spiral-halli\, Juvankatu 16\, Tampere\, Suomi
CATEGORIES:Classic family,Juniorit
END:VEVENT
END:VCALENDAR