BEGIN:VCALENDAR
VERSION:2.0
PRODID:-//Salibandy Club Classic - ECPv4.9.4//NONSGML v1.0//EN
CALSCALE:GREGORIAN
METHOD:PUBLISH
X-WR-CALNAME:Salibandy Club Classic
X-ORIGINAL-URL:https://uusiclassic.i2works.fi
X-WR-CALDESC:Tapahtumat Salibandy Club Classic
BEGIN:VTIMEZONE
TZID:"Europe/Helsinki"
BEGIN:DAYLIGHT
TZOFFSETFROM:+0200
TZOFFSETTO:+0300
TZNAME:EEST
DTSTART:20200329T010000
END:DAYLIGHT
BEGIN:STANDARD
TZOFFSETFROM:+0300
TZOFFSETTO:+0200
TZNAME:EET
DTSTART:20201025T010000
END:STANDARD
END:VTIMEZONE
BEGIN:VEVENT
DTSTART;TZID="Europe/Helsinki":20201129T183000
DTEND;TZID="Europe/Helsinki":20201129T210000
DTSTAMP:20260422T212648
CREATED:20200922T105103Z
LAST-MODIFIED:20200922T105103Z
UID:6051-1606674600-1606683600@uusiclassic.i2works.fi
SUMMARY:Classic A-tytöt - Pirkat
DESCRIPTION:Classic A-tytöt – Pirkat Su 29.11.2020 klo 18.30\, Spiral-halli \n
URL:https://uusiclassic.i2works.fi/ottelu/classic-a-tytot-pirkat/
LOCATION:Spiral-halli\, Juvankatu 16\, Tampere\, Suomi
CATEGORIES:Classic family,Juniorit
END:VEVENT
END:VCALENDAR