BEGIN:VCALENDAR
VERSION:2.0
PRODID:-//Salibandy Club Classic - ECPv4.9.4//NONSGML v1.0//EN
CALSCALE:GREGORIAN
METHOD:PUBLISH
X-WR-CALNAME:Salibandy Club Classic
X-ORIGINAL-URL:https://uusiclassic.i2works.fi
X-WR-CALDESC:Tapahtumat Salibandy Club Classic
BEGIN:VTIMEZONE
TZID:"Europe/Helsinki"
BEGIN:DAYLIGHT
TZOFFSETFROM:+0200
TZOFFSETTO:+0300
TZNAME:EEST
DTSTART:20210328T010000
END:DAYLIGHT
BEGIN:STANDARD
TZOFFSETFROM:+0300
TZOFFSETTO:+0200
TZNAME:EET
DTSTART:20211031T010000
END:STANDARD
END:VTIMEZONE
BEGIN:VEVENT
DTSTART;TZID="Europe/Helsinki":20210223T183000
DTEND;TZID="Europe/Helsinki":20210223T203000
DTSTAMP:20260423T035004
CREATED:20210112T090737Z
LAST-MODIFIED:20210112T090755Z
UID:6857-1614105000-1614112200@uusiclassic.i2works.fi
SUMMARY:Classic A-tytöt - PSS
DESCRIPTION:Classic A-tytöt – PSS ti 23.2. klo 18.30 Spiral-Halli \n
URL:https://uusiclassic.i2works.fi/ottelu/classic-a-tytot-pss-2/
CATEGORIES:Classic family,Juniorit
END:VEVENT
END:VCALENDAR