BEGIN:VCALENDAR
VERSION:2.0
PRODID:-//Salibandy Club Classic - ECPv4.9.4//NONSGML v1.0//EN
CALSCALE:GREGORIAN
METHOD:PUBLISH
X-WR-CALNAME:Salibandy Club Classic
X-ORIGINAL-URL:https://uusiclassic.i2works.fi
X-WR-CALDESC:Tapahtumat Salibandy Club Classic
BEGIN:VTIMEZONE
TZID:"Europe/Helsinki"
BEGIN:DAYLIGHT
TZOFFSETFROM:+0200
TZOFFSETTO:+0300
TZNAME:EEST
DTSTART:20200329T010000
END:DAYLIGHT
BEGIN:STANDARD
TZOFFSETFROM:+0300
TZOFFSETTO:+0200
TZNAME:EET
DTSTART:20201025T010000
END:STANDARD
END:VTIMEZONE
BEGIN:VEVENT
DTSTART;TZID="Europe/Helsinki":20201024T140000
DTEND;TZID="Europe/Helsinki":20201024T163000
DTSTAMP:20260422T225337
CREATED:20200922T104718Z
LAST-MODIFIED:20200922T104718Z
UID:6045-1603548000-1603557000@uusiclassic.i2works.fi
SUMMARY:Classic A-tytöt - SB-Pro
DESCRIPTION:Classic A-tytöt – SB-Pro La 24.10.2020 klo 14.00\, Tampereen Tenniskeskus \n
URL:https://uusiclassic.i2works.fi/ottelu/classic-a-tytot-sb-pro/
LOCATION:Tampereen Tenniskeskus\, Tenniskatu\, Tampere\, Pirkamaa\, Suomi
CATEGORIES:Classic family,Juniorit
END:VEVENT
END:VCALENDAR