BEGIN:VCALENDAR
VERSION:2.0
PRODID:-//Salibandy Club Classic - ECPv4.9.4//NONSGML v1.0//EN
CALSCALE:GREGORIAN
METHOD:PUBLISH
X-WR-CALNAME:Salibandy Club Classic
X-ORIGINAL-URL:https://uusiclassic.i2works.fi
X-WR-CALDESC:Tapahtumat Salibandy Club Classic
BEGIN:VTIMEZONE
TZID:"Europe/Helsinki"
BEGIN:DAYLIGHT
TZOFFSETFROM:+0200
TZOFFSETTO:+0300
TZNAME:EEST
DTSTART:20200329T010000
END:DAYLIGHT
BEGIN:STANDARD
TZOFFSETFROM:+0300
TZOFFSETTO:+0200
TZNAME:EET
DTSTART:20201025T010000
END:STANDARD
END:VTIMEZONE
BEGIN:VEVENT
DTSTART;TZID="Europe/Helsinki":20201101T140000
DTEND;TZID="Europe/Helsinki":20201101T163000
DTSTAMP:20260422T195140
CREATED:20200929T072126Z
LAST-MODIFIED:20200929T072126Z
UID:6189-1604239200-1604248200@uusiclassic.i2works.fi
SUMMARY:Classic B-pojat - Steelers
DESCRIPTION:Classic B-pojat – Steelers Su 1.11.2020 klo 14.00\, Tampere Areena \n
URL:https://uusiclassic.i2works.fi/ottelu/classic-b-pojat-steelers/
LOCATION:Tampere Areena\, Jäähallinraitti 3\, Tampere\, 33540\, Suomi
CATEGORIES:Classic family,Juniorit
END:VEVENT
END:VCALENDAR