BEGIN:VCALENDAR
VERSION:2.0
PRODID:-//Salibandy Club Classic - ECPv4.9.4//NONSGML v1.0//EN
CALSCALE:GREGORIAN
METHOD:PUBLISH
X-WR-CALNAME:Salibandy Club Classic
X-ORIGINAL-URL:https://uusiclassic.i2works.fi
X-WR-CALDESC:Tapahtumat Salibandy Club Classic
BEGIN:VTIMEZONE
TZID:"Europe/Helsinki"
BEGIN:DAYLIGHT
TZOFFSETFROM:+0200
TZOFFSETTO:+0300
TZNAME:EEST
DTSTART:20210328T010000
END:DAYLIGHT
BEGIN:STANDARD
TZOFFSETFROM:+0300
TZOFFSETTO:+0200
TZNAME:EET
DTSTART:20211031T010000
END:STANDARD
END:VTIMEZONE
BEGIN:VEVENT
DTSTART;TZID="Europe/Helsinki":20210220T170000
DTEND;TZID="Europe/Helsinki":20210220T193000
DTSTAMP:20260423T020830
CREATED:20200922T114736Z
LAST-MODIFIED:20200922T114736Z
UID:6076-1613840400-1613849400@uusiclassic.i2works.fi
SUMMARY:Classic B-tytöt - SSRA
DESCRIPTION:Classic B-tytöt – SSRA La 20.2.2021 klo 17.00\, Tampereen Tenniskeskus \n
URL:https://uusiclassic.i2works.fi/ottelu/classic-b-tytot-ssra/
LOCATION:Tampereen Tenniskeskus\, Tenniskatu\, Tampere\, Pirkamaa\, Suomi
CATEGORIES:Classic family,Juniorit
END:VEVENT
END:VCALENDAR