BEGIN:VCALENDAR
VERSION:2.0
PRODID:-//Salibandy Club Classic - ECPv4.9.4//NONSGML v1.0//EN
CALSCALE:GREGORIAN
METHOD:PUBLISH
X-WR-CALNAME:Salibandy Club Classic
X-ORIGINAL-URL:https://uusiclassic.i2works.fi
X-WR-CALDESC:Tapahtumat Salibandy Club Classic
BEGIN:VTIMEZONE
TZID:"Europe/Helsinki"
BEGIN:DAYLIGHT
TZOFFSETFROM:+0200
TZOFFSETTO:+0300
TZNAME:EEST
DTSTART:20200329T010000
END:DAYLIGHT
BEGIN:STANDARD
TZOFFSETFROM:+0300
TZOFFSETTO:+0200
TZNAME:EET
DTSTART:20201025T010000
END:STANDARD
END:VTIMEZONE
BEGIN:VEVENT
DTSTART;TZID="Europe/Helsinki":20201018T153000
DTEND;TZID="Europe/Helsinki":20201018T180000
DTSTAMP:20260423T034100
CREATED:20200922T115453Z
LAST-MODIFIED:20200922T115453Z
UID:6084-1603035000-1603044000@uusiclassic.i2works.fi
SUMMARY:Classic C1-pojat - Merikoski SBT Warriors
DESCRIPTION:Classic C1-pojat – Merikoski SBT Warriors Su 18.10.2020 klo 15.30\, Spiral-halli \n
URL:https://uusiclassic.i2works.fi/ottelu/classic-c1-pojat-merikoski-sbt-warriors/
LOCATION:Spiral-halli\, Juvankatu 16\, Tampere\, Suomi
CATEGORIES:Classic family,Juniorit
END:VEVENT
END:VCALENDAR