BEGIN:VCALENDAR
VERSION:2.0
PRODID:-//Salibandy Club Classic - ECPv4.9.4//NONSGML v1.0//EN
CALSCALE:GREGORIAN
METHOD:PUBLISH
X-WR-CALNAME:Salibandy Club Classic
X-ORIGINAL-URL:https://uusiclassic.i2works.fi
X-WR-CALDESC:Tapahtumat Salibandy Club Classic
BEGIN:VTIMEZONE
TZID:"Europe/Helsinki"
BEGIN:DAYLIGHT
TZOFFSETFROM:+0200
TZOFFSETTO:+0300
TZNAME:EEST
DTSTART:20200329T010000
END:DAYLIGHT
BEGIN:STANDARD
TZOFFSETFROM:+0300
TZOFFSETTO:+0200
TZNAME:EET
DTSTART:20201025T010000
END:STANDARD
END:VTIMEZONE
BEGIN:VEVENT
DTSTART;TZID="Europe/Helsinki":20201024T130000
DTEND;TZID="Europe/Helsinki":20201024T153000
DTSTAMP:20260422T212839
CREATED:20200924T070859Z
LAST-MODIFIED:20200924T070859Z
UID:6127-1603544400-1603553400@uusiclassic.i2works.fi
SUMMARY:Classic C2-pojat - FoSu
DESCRIPTION:Classic C2-pojat – FoSu La 24.10.2020 klo 13.00\, Salpausselkähalli \n
URL:https://uusiclassic.i2works.fi/ottelu/classic-c2-pojat-fosu/
CATEGORIES:Classic family,Juniorit
END:VEVENT
END:VCALENDAR