BEGIN:VCALENDAR
VERSION:2.0
PRODID:-//Salibandy Club Classic - ECPv4.9.4//NONSGML v1.0//EN
CALSCALE:GREGORIAN
METHOD:PUBLISH
X-WR-CALNAME:Salibandy Club Classic
X-ORIGINAL-URL:https://uusiclassic.i2works.fi
X-WR-CALDESC:Tapahtumat Salibandy Club Classic
BEGIN:VTIMEZONE
TZID:"Europe/Helsinki"
BEGIN:DAYLIGHT
TZOFFSETFROM:+0200
TZOFFSETTO:+0300
TZNAME:EEST
DTSTART:20210328T010000
END:DAYLIGHT
BEGIN:STANDARD
TZOFFSETFROM:+0300
TZOFFSETTO:+0200
TZNAME:EET
DTSTART:20211031T010000
END:STANDARD
END:VTIMEZONE
BEGIN:VEVENT
DTSTART;TZID="Europe/Helsinki":20210216T183000
DTEND;TZID="Europe/Helsinki":20210216T210000
DTSTAMP:20260422T193921
CREATED:20200804T074720Z
LAST-MODIFIED:20210215T181130Z
UID:5695-1613500200-1613509200@uusiclassic.i2works.fi
SUMMARY:Classic miehet - Happee (ilman yleisöä)
DESCRIPTION:Classic miehet – Happee Ti 16.2. klo 18.30\, Tampere Areena \nOttelun voi katsoa VeikkausTV:ltä. \nOttelu pelataan ilman yleisöä. \n
URL:https://uusiclassic.i2works.fi/ottelu/classic-miehet-happee/
LOCATION:Tampere Areena\, Jäähallinraitti 3\, Tampere\, 33540\, Suomi
CATEGORIES:Classic family,Miesten liigajoukkue
END:VEVENT
END:VCALENDAR