BEGIN:VCALENDAR
VERSION:2.0
PRODID:-//Salibandy Club Classic - ECPv4.9.4//NONSGML v1.0//EN
CALSCALE:GREGORIAN
METHOD:PUBLISH
X-WR-CALNAME:Salibandy Club Classic
X-ORIGINAL-URL:https://uusiclassic.i2works.fi
X-WR-CALDESC:Tapahtumat Salibandy Club Classic
BEGIN:VTIMEZONE
TZID:"Europe/Helsinki"
BEGIN:DAYLIGHT
TZOFFSETFROM:+0200
TZOFFSETTO:+0300
TZNAME:EEST
DTSTART:20210328T010000
END:DAYLIGHT
BEGIN:STANDARD
TZOFFSETFROM:+0300
TZOFFSETTO:+0200
TZNAME:EET
DTSTART:20211031T010000
END:STANDARD
END:VTIMEZONE
BEGIN:VEVENT
DTSTART;TZID="Europe/Helsinki":20210120T183000
DTEND;TZID="Europe/Helsinki":20210120T203000
DTSTAMP:20260422T230515
CREATED:20210118T092633Z
LAST-MODIFIED:20210118T092633Z
UID:6894-1611167400-1611174600@uusiclassic.i2works.fi
SUMMARY:Classic miehet - Nokian KrP\, Suomen Cup välierä (ilman yleisöä)
DESCRIPTION:Classic miehet – Nokian KrP\, Suomen Cup välierä ke 20.1. klo 18.30\, Tampere Areena \nOttelu pelataan ilman yleisöä. \n
URL:https://uusiclassic.i2works.fi/ottelu/classic-miehet-nokian-krp-suomen-cup-valiera-ilman-yleisoa/
CATEGORIES:Classic family,Miesten liigajoukkue
END:VEVENT
END:VCALENDAR