BEGIN:VCALENDAR
VERSION:2.0
PRODID:-//Salibandy Club Classic - ECPv4.9.4//NONSGML v1.0//EN
CALSCALE:GREGORIAN
METHOD:PUBLISH
X-WR-CALNAME:Salibandy Club Classic
X-ORIGINAL-URL:https://uusiclassic.i2works.fi
X-WR-CALDESC:Tapahtumat Salibandy Club Classic
BEGIN:VTIMEZONE
TZID:"Europe/Helsinki"
BEGIN:DAYLIGHT
TZOFFSETFROM:+0200
TZOFFSETTO:+0300
TZNAME:EEST
DTSTART:20210328T010000
END:DAYLIGHT
BEGIN:STANDARD
TZOFFSETFROM:+0300
TZOFFSETTO:+0200
TZNAME:EET
DTSTART:20211031T010000
END:STANDARD
END:VTIMEZONE
BEGIN:VEVENT
DTSTART;TZID="Europe/Helsinki":20210224T183000
DTEND;TZID="Europe/Helsinki":20210224T210000
DTSTAMP:20260423T052919
CREATED:20200804T074839Z
LAST-MODIFIED:20200804T074839Z
UID:5697-1614191400-1614200400@uusiclassic.i2works.fi
SUMMARY:Indians - Classic miehet
DESCRIPTION:Indians – Classic miehet Ke 24.2. klo 18.30\, Otahalli \n
URL:https://uusiclassic.i2works.fi/ottelu/indians-classic-miehet/
LOCATION:Otahalli Espoo
CATEGORIES:Classic family,Miesten liigajoukkue,Vieraspelit miehet
END:VEVENT
END:VCALENDAR