BEGIN:VCALENDAR
VERSION:2.0
PRODID:-//Salibandy Club Classic - ECPv4.9.4//NONSGML v1.0//EN
CALSCALE:GREGORIAN
METHOD:PUBLISH
X-WR-CALNAME:Salibandy Club Classic
X-ORIGINAL-URL:https://uusiclassic.i2works.fi
X-WR-CALDESC:Tapahtumat Salibandy Club Classic
BEGIN:VTIMEZONE
TZID:"Europe/Helsinki"
BEGIN:DAYLIGHT
TZOFFSETFROM:+0200
TZOFFSETTO:+0300
TZNAME:EEST
DTSTART:20200329T010000
END:DAYLIGHT
BEGIN:STANDARD
TZOFFSETFROM:+0300
TZOFFSETTO:+0200
TZNAME:EET
DTSTART:20201025T010000
END:STANDARD
END:VTIMEZONE
BEGIN:VEVENT
DTSTART;TZID="Europe/Helsinki":20200927T180000
DTEND;TZID="Europe/Helsinki":20200927T203000
DTSTAMP:20260423T033835
CREATED:20200804T071225Z
LAST-MODIFIED:20200804T071225Z
UID:5650-1601229600-1601238600@uusiclassic.i2works.fi
SUMMARY:OLS - Classic miehet
DESCRIPTION:OLS – Classic miehet Su 27.9. klo 18.00\, Kastelli \n
URL:https://uusiclassic.i2works.fi/ottelu/ols-classic-miehet/
LOCATION:Kastellin monitoimitalo
CATEGORIES:Classic family,Miesten liigajoukkue,Vieraspelit miehet
END:VEVENT
END:VCALENDAR