BEGIN:VCALENDAR
VERSION:2.0
PRODID:-//Salibandy Club Classic - ECPv4.9.4//NONSGML v1.0//EN
CALSCALE:GREGORIAN
METHOD:PUBLISH
X-WR-CALNAME:Salibandy Club Classic
X-ORIGINAL-URL:https://uusiclassic.i2works.fi
X-WR-CALDESC:Tapahtumat Salibandy Club Classic
BEGIN:VTIMEZONE
TZID:"Europe/Helsinki"
BEGIN:DAYLIGHT
TZOFFSETFROM:+0200
TZOFFSETTO:+0300
TZNAME:EEST
DTSTART:20200329T010000
END:DAYLIGHT
BEGIN:STANDARD
TZOFFSETFROM:+0300
TZOFFSETTO:+0200
TZNAME:EET
DTSTART:20201025T010000
END:STANDARD
END:VTIMEZONE
BEGIN:VEVENT
DTSTART;TZID="Europe/Helsinki":20201024T170000
DTEND;TZID="Europe/Helsinki":20201024T193000
DTSTAMP:20260423T002652
CREATED:20200924T071019Z
LAST-MODIFIED:20200924T071019Z
UID:6129-1603558800-1603567800@uusiclassic.i2works.fi
SUMMARY:Pelicans SB - Classic C2-pojat
DESCRIPTION:Pelicans SB – Classic C2-pojat La 24.10.2020 klo 17.00\, Salpausselkähalli \n
URL:https://uusiclassic.i2works.fi/ottelu/pelicans-sb-classic-c2-pojat/
CATEGORIES:Classic family,Juniorit,Vieraspelit
END:VEVENT
END:VCALENDAR