BEGIN:VCALENDAR
VERSION:2.0
PRODID:-//Salibandy Club Classic - ECPv4.9.4//NONSGML v1.0//EN
CALSCALE:GREGORIAN
METHOD:PUBLISH
X-WR-CALNAME:Salibandy Club Classic
X-ORIGINAL-URL:https://uusiclassic.i2works.fi
X-WR-CALDESC:Tapahtumat Salibandy Club Classic
BEGIN:VTIMEZONE
TZID:"Europe/Helsinki"
BEGIN:DAYLIGHT
TZOFFSETFROM:+0200
TZOFFSETTO:+0300
TZNAME:EEST
DTSTART:20210328T010000
END:DAYLIGHT
BEGIN:STANDARD
TZOFFSETFROM:+0300
TZOFFSETTO:+0200
TZNAME:EET
DTSTART:20211031T010000
END:STANDARD
END:VTIMEZONE
BEGIN:VEVENT
DTSTART;TZID="Europe/Helsinki":20210417T150000
DTEND;TZID="Europe/Helsinki":20210417T170000
DTSTAMP:20260423T033626
CREATED:20210412T090048Z
LAST-MODIFIED:20210412T110206Z
UID:7131-1618671600-1618678800@uusiclassic.i2works.fi
SUMMARY:Pronssipeli SSRA - Classic naiset
DESCRIPTION:Pronssipeli \nLa 17.4. klo 15.00 SSRA – Classic\, Kastellin monitoimitalo Oulu \nOttelun voi katsoa Ruutu+:sta. \n
URL:https://uusiclassic.i2works.fi/ottelu/pronssipeli-ssra-classic-naiset/
LOCATION:Kastellin monitoimitalo
CATEGORIES:Classic family,Naisten liigajoukkue,Vieraspelit naiset
END:VEVENT
END:VCALENDAR