BEGIN:VCALENDAR
VERSION:2.0
PRODID:-//Salibandy Club Classic - ECPv4.9.4//NONSGML v1.0//EN
CALSCALE:GREGORIAN
METHOD:PUBLISH
X-WR-CALNAME:Salibandy Club Classic
X-ORIGINAL-URL:https://uusiclassic.i2works.fi
X-WR-CALDESC:Tapahtumat Salibandy Club Classic
BEGIN:VTIMEZONE
TZID:"Europe/Helsinki"
BEGIN:DAYLIGHT
TZOFFSETFROM:+0200
TZOFFSETTO:+0300
TZNAME:EEST
DTSTART:20200329T010000
END:DAYLIGHT
BEGIN:STANDARD
TZOFFSETFROM:+0300
TZOFFSETTO:+0200
TZNAME:EET
DTSTART:20201025T010000
END:STANDARD
END:VTIMEZONE
BEGIN:VEVENT
DTSTART;TZID="Europe/Helsinki":20201219T183000
DTEND;TZID="Europe/Helsinki":20201219T210000
DTSTAMP:20260424T125932
CREATED:20200807T114041Z
LAST-MODIFIED:20200807T114041Z
UID:5732-1608402600-1608411600@uusiclassic.i2works.fi
SUMMARY:TPS - Classic naiset
DESCRIPTION:TPS – Classic naiset La 19.12. klo 18.30\, Kupittaan ph \n
URL:https://uusiclassic.i2works.fi/ottelu/tps-classic-naiset/
LOCATION:Kupittaan palloiluhalli
CATEGORIES:Classic family,Naisten liigajoukkue,Vieraspelit naiset
END:VEVENT
END:VCALENDAR