BEGIN:VCALENDAR
VERSION:2.0
PRODID:-//Salibandy Club Classic - ECPv4.9.4//NONSGML v1.0//EN
CALSCALE:GREGORIAN
METHOD:PUBLISH
X-WR-CALNAME:Salibandy Club Classic
X-ORIGINAL-URL:https://uusiclassic.i2works.fi
X-WR-CALDESC:Tapahtumat Salibandy Club Classic
BEGIN:VTIMEZONE
TZID:"Europe/Helsinki"
BEGIN:DAYLIGHT
TZOFFSETFROM:+0200
TZOFFSETTO:+0300
TZNAME:EEST
DTSTART:20200329T010000
END:DAYLIGHT
BEGIN:STANDARD
TZOFFSETFROM:+0300
TZOFFSETTO:+0200
TZNAME:EET
DTSTART:20201025T010000
END:STANDARD
END:VTIMEZONE
BEGIN:VEVENT
DTSTART;TZID="Europe/Helsinki":20201219T180000
DTEND;TZID="Europe/Helsinki":20201219T203000
DTSTAMP:20260424T105117
CREATED:20200804T072735Z
LAST-MODIFIED:20200804T072849Z
UID:5672-1608400800-1608409800@uusiclassic.i2works.fi
SUMMARY:Welhot - Classic miehet
DESCRIPTION:Welhot – Classic miehet La 19.12. klo 18.00\, Kuopion jäähalli \n
URL:https://uusiclassic.i2works.fi/ottelu/welhot-classic-miehet/
LOCATION:Kuopion jäähalli
CATEGORIES:Classic family,Miesten liigajoukkue,Vieraspelit miehet
END:VEVENT
END:VCALENDAR